0.500000
0.000000
-0.000000
-0.500000
1758000.250000
227999.750000
