0.500000
0.000000
-0.000000
-0.500000
1764000.250000
137999.750000
