0.500000
0.000000
-0.000000
-0.500000
1770000.250000
131999.750000
