0.500000
0.000000
-0.000000
-0.500000
1782000.250000
257999.750000
