0.500000
0.000000
-0.000000
-0.500000
1788000.250000
251999.750000
