0.500000
0.000000
-0.000000
-0.500000
1794000.250000
371999.750000
