0.500000
0.000000
0.000000
-0.500000
2452500.250000
1422499.750000
