0.500000
0.000000
0.000000
-0.500000
2462500.250000
1414999.750000
