0.500000
0.000000
0.000000
-0.500000
2470000.250000
1424999.750000
