0.500000
0.000000
0.000000
-0.500000
2480000.250000
1439999.750000
