0.500000
0.000000
0.000000
-0.500000
2482500.250000
1424999.750000
