0.500000
0.000000
0.000000
-0.500000
2495000.250000
1427499.750000
