0.500000
0.000000
0.000000
-0.500000
2497500.250000
1389999.750000
