0.500000
0.000000
0.000000
-0.500000
2502500.250000
1377499.750000
