0.500000
0.000000
0.000000
-0.500000
2507500.250000
1379999.750000
