0.500000
0.000000
0.000000
-0.500000
2512500.250000
1414999.750000
