0.500000
0.000000
0.000000
-0.500000
2517500.250000
1374999.750000
