0.500000
0.000000
0.000000
-0.500000
2520000.250000
1362499.750000
