0.500000
0.000000
0.000000
-0.500000
2530000.250000
1407499.750000
