0.500000
0.000000
0.000000
-0.500000
2537500.250000
1397499.750000
