0.500000
0.000000
0.000000
-0.500000
2550000.250000
1389999.750000
