0.500000
0.000000
0.000000
-0.500000
2562500.250000
1404999.750000
