0.500000
0.000000
-0.000000
-0.500000
2235000.250000
819999.750000
