0.500000
0.000000
-0.000000
-0.500000
2270000.250000
854999.750000
