0.300000
0.000000
0.000000
-0.300000
390000.150000
194999.850000
