0.500000
0.000000
-0.000000
-0.500000
2390000.250000
554999.750000
