1.000000
0.000000
-0.000000
-1.000000
2150000.500000
779999.500000
