1.000000
0.000000
-0.000000
-1.000000
2195000.500000
704999.500000
