1.000000
0.000000
-0.000000
-1.000000
2205000.500000
759999.500000
