0.300000
0.000000
0.000000
-0.300000
610540.640089
3686629.923120
