0.300000
0.000000
0.000000
-0.300000
540810.740089
3665256.723120
