0.300000
0.000000
0.000000
-0.300000
674171.159256
3708400.082759
