0.300000
0.000000
0.000000
-0.300000
535103.840089
3630586.623120
