0.300000
0.000000
0.000000
-0.300000
662324.159256
3722051.882759
