0.300000
0.000000
0.000000
-0.300000
534930.740089
3679088.823120
