0.300000
0.000000
0.000000
-0.300000
517600.340089
3602815.923120
