0.300000
0.000000
0.000000
-0.300000
464845.040089
3623635.623120
