0.300000
0.000000
0.000000
-0.300000
529294.040089
3616707.123120
