0.300000
0.000000
0.000000
-0.300000
511708.640089
3623589.123120
