0.30000000000000
0.00000000000000
0.00000000000000
-0.30000000000000
672500.150000
3067499.850000
