0.30000000000000
0.00000000000000
0.00000000000000
-0.30000000000000
685000.150000
3084999.850000
