0.30000000000000
0.00000000000000
0.00000000000000
-0.30000000000000
697500.150000
3094999.850000
