0.30000000000000
0.00000000000000
0.00000000000000
-0.30000000000000
720000.150000
3119999.850000
