0.30000000000000
0.00000000000000
0.00000000000000
-0.30000000000000
737500.150000
3137499.850000
