0.30000000000000
0.00000000000000
0.00000000000000
-0.30000000000000
745000.150000
3149999.850000
