0.30000000000000
0.00000000000000
0.00000000000000
-0.30000000000000
747500.150000
3154999.850000
