0.30000000000000
0.00000000000000
0.00000000000000
-0.30000000000000
750000.150000
3134999.850000
