0.30000000000000
0.00000000000000
0.00000000000000
-0.30000000000000
752500.150000
3142499.850000
