0.30000000000000
0.00000000000000
0.00000000000000
-0.30000000000000
760000.150000
3139999.850000
