0.30000000000000
0.00000000000000
0.00000000000000
-0.30000000000000
775000.150000
3172499.850000
